BEGIN:VCALENDAR
VERSION:2.0
PRODID:Events Booking
BEGIN:VEVENT
UID:69e627d4d5231
SUMMARY:Udflugt med Tårup-Frørup Seniorklub
DESCRIPTION:Udflugt med Tårup-Frørup Seniorklub
LOCATION:Tårup Byvej 26\, Tårup\, 5871 Frørup
DTSTART:20200917T060000Z
DTEND:20200917T174500Z
DTSTAMP:20260420T151916Z
ORGANIZER:MAILTO:Tårupportalen
GEO:55.234602;10.773174
X-APPLE-STRUCTURED-LOCATION;VALUE=URI;X-ADDRESS=Tårup Byvej 26\, Tårup\, 
 5871 Frørup;X-APPLE-RADIUS=72;X-TITLE=Tårup Forsamlingshus:55.234602;10.
 773174
END:VEVENT
BEGIN:VEVENT
UID:69e627d4d52a0
SUMMARY:Høstfest i Seniorklubben
DESCRIPTION:Høstfest i Tårup-Frørup Seniorklub den 13. oktober 2020 kl. 
 18:00 i Tårup Forsamlingshus
LOCATION:Tårup Byvej 26\, Tårup\, 5871 Frørup
DTSTART:20201013T160000Z
DTSTAMP:20260420T151916Z
ORGANIZER:MAILTO:Tårupportalen
GEO:55.234602;10.773174
X-APPLE-STRUCTURED-LOCATION;VALUE=URI;X-ADDRESS=Tårup Byvej 26\, Tårup\, 
 5871 Frørup;X-APPLE-RADIUS=72;X-TITLE=Tårup Forsamlingshus:55.234602;10.
 773174
END:VEVENT
BEGIN:VEVENT
UID:69e627d4d52b5
SUMMARY:Ud i det blå med Seniorklubben
DESCRIPTION:Tag på udflugt med Tårup-Frørup Seniorklub - Ud i det blå
DTSTART:20210624T103000Z
DTEND:20210624T153000Z
DTSTAMP:20260420T151916Z
ORGANIZER:MAILTO:Tårupportalen
END:VEVENT
BEGIN:VEVENT
UID:69e627d4d52cc
SUMMARY:Udflugt til Koldinghus
DESCRIPTION:Udflugt til KoldinghusHovedmålet for udflugten er Kolding hus\
 , hvor der vil blive en guidedrundtur i to hold på maksimalt 25 deltagere
  på hvert hold. Der vil ogsåblive tid til at gå lidt på egen hånd. De
 r bliver mulighed for at se dronningensbroderier\, som udstilles på Koldi
 nghus i denne tid.
LOCATION:Koldinghus\, Søndervang\, 6000 Kolding
DTSTART:20210907T103000Z
DTEND:20210907T180000Z
DTSTAMP:20260420T151916Z
ORGANIZER:MAILTO:Tårupportalen
GEO:55.491206;9.475901
X-APPLE-STRUCTURED-LOCATION;VALUE=URI;X-ADDRESS=Koldinghus\, Søndervang\, 
 6000 Kolding;X-APPLE-RADIUS=72;X-TITLE=Koldinghus:55.491206;9.475901
END:VEVENT
BEGIN:VEVENT
UID:69e627d4d52e3
SUMMARY:Sensommermøde i Frørup præstegård
DESCRIPTION:Sensommermøde i Frørup præstegårdEn eftermiddag med sang\, 
 historier og kaffebord.Se annonce i Lokalavisen Nyborg. Menighedsrådet er
  vært ved kaffen.
LOCATION:Præstevænget 5\, 5871 Frørup
DTSTART:20210916T120000Z
DTSTAMP:20260420T151916Z
ORGANIZER:MAILTO:Tårupportalen
GEO:55.242304;10.713265
X-APPLE-STRUCTURED-LOCATION;VALUE=URI;X-ADDRESS=Præstevænget 5\, 5871 Fr
 ørup;X-APPLE-RADIUS=72;X-TITLE=Frørup Præstegaard:55.242304;10.713265
END:VEVENT
BEGIN:VEVENT
UID:69e627d4d52f6
SUMMARY:Høstfest i Seniorklubben
DESCRIPTION:Menu: Suppe og oksesteg med peberrodssovs\, kaffe og småkager.
 Taffelmusik og musikalsk underholdning ved gruppen ”Musik fra hjertet”
  bestående af guitar\, harmonika\, kontrabas/mandolin samt 3 - 4 sanglær
 ker.
LOCATION:Tårup Byvej 26\, Tårup\, 5871 Frørup
DTSTART:20211012T160000Z
DTSTAMP:20260420T151916Z
ORGANIZER:MAILTO:Tårupportalen
GEO:55.234602;10.773174
X-APPLE-STRUCTURED-LOCATION;VALUE=URI;X-ADDRESS=Tårup Byvej 26\, Tårup\, 
 5871 Frørup;X-APPLE-RADIUS=72;X-TITLE=Tårup Forsamlingshus:55.234602;10.
 773174
END:VEVENT
BEGIN:VEVENT
UID:69e627d4d5304
SUMMARY:Hulekirker i Tyrkiet - foredrag i Seniorklubben
DESCRIPTION:Hulekirker i Tyrkiet. Foredrag med billeder ved tidligere bisko
 p i Odense Kresten Drejergaard.
LOCATION:Tårup Byvej 26\, Tårup\, 5871 Frørup
DTSTART:20211118T130000Z
DTSTAMP:20260420T151916Z
ORGANIZER:MAILTO:Tårupportalen
GEO:55.234602;10.773174
X-APPLE-STRUCTURED-LOCATION;VALUE=URI;X-ADDRESS=Tårup Byvej 26\, Tårup\, 
 5871 Frørup;X-APPLE-RADIUS=72;X-TITLE=Tårup Forsamlingshus:55.234602;10.
 773174
END:VEVENT
BEGIN:VEVENT
UID:69e627d4d531a
SUMMARY:Aflyst - Sangerinden Lise Nees underholder 
DESCRIPTION:Arrangementet er aflyst pga. Covid 19
  
 Program: Sangerind
 en Lise Nees underholder med sit program ”Danske Film- og Revysange.
LOCATION:Tårup Byvej 26\, Tårup\, 5871 Frørup
DTSTART:20220113T130000Z
DTSTAMP:20260420T151916Z
ORGANIZER:MAILTO:Tårupportalen
GEO:55.234602;10.773174
X-APPLE-STRUCTURED-LOCATION;VALUE=URI;X-ADDRESS=Tårup Byvej 26\, Tårup\, 
 5871 Frørup;X-APPLE-RADIUS=72;X-TITLE=Tårup Forsamlingshus:55.234602;10.
 773174
END:VEVENT
BEGIN:VEVENT
UID:69e627d4d532a
SUMMARY:Forårsfest i Seniorklubben
DESCRIPTION:Forårsfest i Seniorklubben
LOCATION:Kogsbøllevej 83\, 5871 Frørup
DTSTART:20220315T170000Z
DTSTAMP:20260420T151916Z
ORGANIZER:MAILTO:Tårupportalen
GEO:55.243539;10.718476
X-APPLE-STRUCTURED-LOCATION;VALUE=URI;X-ADDRESS=Kogsbøllevej 83\, 5871 Fr
 ørup;X-APPLE-RADIUS=72;X-TITLE=Frørup Forsamlingshus:55.243539;10.718476
END:VEVENT
BEGIN:VEVENT
UID:69e627d4d533b
SUMMARY:Sensommermøde i Frørup præstegård
DESCRIPTION:Sensommermøde i Frørup præstegårdEn eftermiddag med sang og
  musik ved Jens Bækkelund.
 Kaffebord boller og kage.Menighedsrådet er 
 vært ved kaffen.
LOCATION:Præstevænget 5\, 5871 Frørup
DTSTART:20220908T120000Z
DTSTAMP:20220803T072032Z
ORGANIZER:MAILTO:Tårupportalen
GEO:55.242304;10.713265
X-APPLE-STRUCTURED-LOCATION;VALUE=URI;X-ADDRESS=Præstevænget 5\, 5871 Fr
 ørup;X-APPLE-RADIUS=72;X-TITLE=Frørup Præstegaard:55.242304;10.713265
END:VEVENT
BEGIN:VEVENT
UID:69e627d4d5352
SUMMARY:Udflugt til Drejø med Seniorklubben
DESCRIPTION:Udflugt til Drejø
LOCATION:Drejø
DTSTART:20220915T075000Z
DTEND:20220915T160000Z
DTSTAMP:20220803T073529Z
ORGANIZER:MAILTO:Tårupportalen
GEO:54.970047;10.422867
X-APPLE-STRUCTURED-LOCATION;VALUE=URI;X-ADDRESS=Drejø;X-APPLE-RADIUS=72;X-
 TITLE=Drejø:54.970047;10.422867
END:VEVENT
BEGIN:VEVENT
UID:69e627d4d5370
SUMMARY:Høstfest i Seniorklubben
DESCRIPTION:Høstfest i Seniorklubben
LOCATION:Tårup Byvej 26\, Tårup\, 5871 Frørup
DTSTART:20221018T160000Z
DTSTAMP:20220803T074507Z
ORGANIZER:MAILTO:Tårupportalen
GEO:55.234602;10.773174
X-APPLE-STRUCTURED-LOCATION;VALUE=URI;X-ADDRESS=Tårup Byvej 26\, Tårup\, 
 5871 Frørup;X-APPLE-RADIUS=72;X-TITLE=Tårup Forsamlingshus:55.234602;10.
 773174
END:VEVENT
BEGIN:VEVENT
UID:69e627d4d5385
SUMMARY:Med kort og kompas i det grønlandske fjeld
DESCRIPTION:”Med kort og kompas i det grønlandske fjeld”
 foredrag me
 d&nbsp\;Jørn Folner
LOCATION:Tårup Byvej 26\, Tårup\, 5871 Frørup
DTSTART:20221115T130000Z
DTSTAMP:20220803T110215Z
ORGANIZER:MAILTO:Tårupportalen
GEO:55.234602;10.773174
X-APPLE-STRUCTURED-LOCATION;VALUE=URI;X-ADDRESS=Tårup Byvej 26\, Tårup\, 
 5871 Frørup;X-APPLE-RADIUS=72;X-TITLE=Tårup Forsamlingshus:55.234602;10.
 773174
END:VEVENT
BEGIN:VEVENT
UID:69e627d4d539f
SUMMARY:”Hvilken hjælp er der\, når alderen begynder at trykke”
DESCRIPTION:”Hvilken hjælp er der\, når alderen begynder at trykke”
LOCATION:Tårup Byvej 26\, Tårup\, 5871 Frørup
DTSTART:20230110T130000Z
DTSTAMP:20220803T114820Z
ORGANIZER:MAILTO:Tårupportalen
GEO:55.234602;10.773174
X-APPLE-STRUCTURED-LOCATION;VALUE=URI;X-ADDRESS=Tårup Byvej 26\, Tårup\, 
 5871 Frørup;X-APPLE-RADIUS=72;X-TITLE=Tårup Forsamlingshus:55.234602;10.
 773174
END:VEVENT
BEGIN:VEVENT
UID:69e627d4d53b4
SUMMARY:Sumatra– en rigdom af kultur og natur - foredrag
DESCRIPTION:”Sumatra – en rigdom af kultur og natur”&nbsp\;
 foredra
 g ved&nbsp\; rejseleder Peer Faurskov&nbsp\;
LOCATION:Kogsbøllevej 83\, 5871 Frørup
DTSTART:20230216T130000Z
DTSTAMP:20220803T122034Z
ORGANIZER:MAILTO:Tårupportalen
GEO:55.243539;10.718476
X-APPLE-STRUCTURED-LOCATION;VALUE=URI;X-ADDRESS=Kogsbøllevej 83\, 5871 Fr
 ørup;X-APPLE-RADIUS=72;X-TITLE=Frørup Forsamlingshus:55.243539;10.718476
END:VEVENT
BEGIN:VEVENT
UID:69e627d4d53ca
SUMMARY:Forårsfest i Seniorklubben
DESCRIPTION:Forårsfest i Seniorklubben
LOCATION:Kogsbøllevej 83\, 5871 Frørup
DTSTART:20230314T170000Z
DTSTAMP:20220803T122901Z
ORGANIZER:MAILTO:Tårupportalen
GEO:55.243539;10.718476
X-APPLE-STRUCTURED-LOCATION;VALUE=URI;X-ADDRESS=Kogsbøllevej 83\, 5871 Fr
 ørup;X-APPLE-RADIUS=72;X-TITLE=Frørup Forsamlingshus:55.243539;10.718476
END:VEVENT
BEGIN:VEVENT
UID:69e627d4d53df
SUMMARY:På udflugt Hindsholm med Seniorklubben
DESCRIPTION:På udflugt til Ladby og Hindsholm med Seniorklubben
DTSTART:20230509T100000Z
DTSTAMP:20220803T130450Z
ORGANIZER:MAILTO:Tårupportalen
END:VEVENT
BEGIN:VEVENT
UID:69e627d4d53fa
SUMMARY:Sensommermøde i Frørup præstegård
DESCRIPTION:”Om Shakespeare”André vil læse passager op og fortælle o
 m William Shakespeares værker. Vi synger nogle af sensommerens sange og f
 år et godt kaffebord.
 Alle er hjertelig velkomne.
 Menighedsrådet er 
 vært ved kaffen.
 &nbsp\;
LOCATION:Præstevænget 5\, 5871 Frørup
DTSTART:20230907T120000Z
DTSTAMP:20230825T110953Z
ORGANIZER:MAILTO:Tårupportalen
GEO:55.242304;10.713265
X-APPLE-STRUCTURED-LOCATION;VALUE=URI;X-ADDRESS=Præstevænget 5\, 5871 Fr
 ørup;X-APPLE-RADIUS=72;X-TITLE=Frørup Præstegaard:55.242304;10.713265
END:VEVENT
BEGIN:VEVENT
UID:69e627d4d5419
SUMMARY:Heldagsudflugt til andelslandsbyen Nyvang ved Holbæk\, Sjælland
DESCRIPTION:Heldagsudflugt til andelslandsbyen Nyvang ved Holbæk\, Sjælla
 nd
DTSTART:20230913T060000Z
DTEND:20230913T160000Z
DTSTAMP:20230826T100349Z
ORGANIZER:MAILTO:Tårupportalen
END:VEVENT
BEGIN:VEVENT
UID:69e627d4d5438
SUMMARY:Høstfest i Tårup-Frørup Seniorklub
DESCRIPTION:Høstfest i Tårup-Frørup Seniorklub
LOCATION:Tårup Byvej 26\, Tårup\, 5871 Frørup
DTSTART:20231019T160000Z
DTSTAMP:20230826T101303Z
ORGANIZER:MAILTO:Tårupportalen
GEO:55.234602;10.773174
X-APPLE-STRUCTURED-LOCATION;VALUE=URI;X-ADDRESS=Tårup Byvej 26\, Tårup\, 
 5871 Frørup;X-APPLE-RADIUS=72;X-TITLE=Tårup Forsamlingshus:55.234602;10.
 773174
END:VEVENT
BEGIN:VEVENT
UID:69e627d4d5450
SUMMARY:Efterårsmøde i Seniorklubben
DESCRIPTION:Efterårsmøde i Seniorklubben
LOCATION:Tårup Byvej 26\, Tårup\, 5871 Frørup
DTSTART:20231123T130000Z
DTSTAMP:20230826T103750Z
ORGANIZER:MAILTO:Tårupportalen
GEO:55.234602;10.773174
X-APPLE-STRUCTURED-LOCATION;VALUE=URI;X-ADDRESS=Tårup Byvej 26\, Tårup\, 
 5871 Frørup;X-APPLE-RADIUS=72;X-TITLE=Tårup Forsamlingshus:55.234602;10.
 773174
END:VEVENT
BEGIN:VEVENT
UID:69e627d4d5466
SUMMARY:Billedforedrag ved skibsingeniør Jesper W. Henriksen 
DESCRIPTION:Billedforedrag ved skibsingeniør Jesper W. Henriksen
LOCATION:Tårup Byvej 26\, Tårup\, 5871 Frørup
DTSTART:20240111T130000Z
DTSTAMP:20230826T104151Z
ORGANIZER:MAILTO:Tårupportalen
GEO:55.234602;10.773174
X-APPLE-STRUCTURED-LOCATION;VALUE=URI;X-ADDRESS=Tårup Byvej 26\, Tårup\, 
 5871 Frørup;X-APPLE-RADIUS=72;X-TITLE=Tårup Forsamlingshus:55.234602;10.
 773174
END:VEVENT
BEGIN:VEVENT
UID:69e627d4d547e
SUMMARY:Kom og hør om Slædepatruljen SIRIUS!
DESCRIPTION:Kom og hør om Slædepatruljen SIRIUS!
LOCATION:Kogsbøllevej 83\, 5871 Frørup
DTSTART:20240216T130000Z
DTSTAMP:20230826T125705Z
ORGANIZER:MAILTO:Tårupportalen
GEO:55.243539;10.718476
X-APPLE-STRUCTURED-LOCATION;VALUE=URI;X-ADDRESS=Kogsbøllevej 83\, 5871 Fr
 ørup;X-APPLE-RADIUS=72;X-TITLE=Frørup Forsamlingshus:55.243539;10.718476
END:VEVENT
BEGIN:VEVENT
UID:69e627d4d5494
SUMMARY:Forårsfest i Seniorklubben
DESCRIPTION:Forårsfest i Seniorklubben
LOCATION:Kogsbøllevej 83\, 5871 Frørup
DTSTART:20240305T170000Z
DTSTAMP:20230826T130143Z
ORGANIZER:MAILTO:Tårupportalen
GEO:55.243539;10.718476
X-APPLE-STRUCTURED-LOCATION;VALUE=URI;X-ADDRESS=Kogsbøllevej 83\, 5871 Fr
 ørup;X-APPLE-RADIUS=72;X-TITLE=Frørup Forsamlingshus:55.243539;10.718476
END:VEVENT
BEGIN:VEVENT
UID:69e627d4d54ac
SUMMARY:Seniorklubbens maj-udflugt
DESCRIPTION:Seniorklubbens maj-udflugt
DTSTART:20240513T220000Z
DTSTAMP:20230826T130623Z
ORGANIZER:MAILTO:Tårupportalen
END:VEVENT
END:VCALENDAR