BEGIN:VCALENDAR
VERSION:2.0
PRODID:Events Booking
BEGIN:VEVENT
UID:69e627d4c26bf
SUMMARY:Søren Manscher solo
DESCRIPTION:Mød Søren Manscher solo til en intimkoncert i Tårup!
LOCATION:Bækvej 9\, Tårup\, 5871 Frørup
DTSTART:20200919T173000Z
DTEND:20200919T183000Z
DTSTAMP:20260420T151916Z
ORGANIZER:MAILTO:Tårupportalen
GEO:55.237476;10.772874
X-APPLE-STRUCTURED-LOCATION;VALUE=URI;X-ADDRESS=Bækvej 9\, Tårup\, 5871 F
 rørup;X-APPLE-RADIUS=72;X-TITLE=Bækvej 9´s Stuekoncerter:55.237476;10.7
 72874
END:VEVENT
BEGIN:VEVENT
UID:69e627d4c27b1
SUMMARY:Sangskriveren Echo Me gæster Tårup
DESCRIPTION:Sangskriveren Echo Me gæster Bækvej 9 i Tårup med sin guitar
  og sange for enhver smag.&nbsp\;
LOCATION:Bækvej 9\, Tårup\, 5871 Frørup
DTSTART:20210520T180000Z
DTEND:20210520T191500Z
DTSTAMP:20260420T151916Z
ORGANIZER:MAILTO:Tårupportalen
GEO:55.237476;10.772874
X-APPLE-STRUCTURED-LOCATION;VALUE=URI;X-ADDRESS=Bækvej 9\, Tårup\, 5871 F
 rørup;X-APPLE-RADIUS=72;X-TITLE=Bækvej 9´s Stuekoncerter:55.237476;10.7
 72874
END:VEVENT
BEGIN:VEVENT
UID:69e627d4c27d2
SUMMARY:Koncert med Claus Dencher
DESCRIPTION:Kom til intimkoncert med Claus Dencher\, der i omtale beskrives
  som en nærværende\, historiefortællende singer-songwriter med en fanta
 stisk stemme.
LOCATION:Bækvej 9\, Tårup\, 5871 Frørup
DTSTART:20210618T170000Z
DTSTAMP:20260420T151916Z
ORGANIZER:MAILTO:Tårupportalen
GEO:55.237476;10.772874
X-APPLE-STRUCTURED-LOCATION;VALUE=URI;X-ADDRESS=Bækvej 9\, Tårup\, 5871 F
 rørup;X-APPLE-RADIUS=72;X-TITLE=Bækvej 9´s Stuekoncerter:55.237476;10.7
 72874
END:VEVENT
BEGIN:VEVENT
UID:69e627d4c27e2
SUMMARY:Koncert med Tomas Høffding 
DESCRIPTION:Koncert med Tomas Høffding
LOCATION:Åvej 7\,Tårup\,5871 Frørup
DTSTART:20210701T180000Z
DTEND:20210701T190000Z
DTSTAMP:20260420T151916Z
ORGANIZER:MAILTO:Tårupportalen
GEO:55.229347;10.745621
X-APPLE-STRUCTURED-LOCATION;VALUE=URI;X-ADDRESS=Åvej 7\,Tårup\,5871 Frør
 up;X-APPLE-RADIUS=72;X-TITLE=Bækvej 9's stuekoncerter - Spillested Åvej 
 7:55.229347;10.745621
END:VEVENT
BEGIN:VEVENT
UID:69e627d4c27f7
SUMMARY:Henrik Johannessen
DESCRIPTION:Henrik Johannessen leverer sydstats-inspireret musik\, tilsat e
 t råt tvist fra sin akustiske Martin guitar.
LOCATION:Bækvej 9\, Tårup\, 5871 Frørup
DTSTART:20210717T180000Z
DTSTAMP:20260420T151916Z
ORGANIZER:MAILTO:Tårupportalen
GEO:55.237476;10.772874
X-APPLE-STRUCTURED-LOCATION;VALUE=URI;X-ADDRESS=Bækvej 9\, Tårup\, 5871 F
 rørup;X-APPLE-RADIUS=72;X-TITLE=Bækvej 9´s Stuekoncerter:55.237476;10.7
 72874
END:VEVENT
BEGIN:VEVENT
UID:69e627d4c2805
SUMMARY:FAZE'N'MIR
DESCRIPTION:Stuekoncert med&nbsp\;FAZE’N’MIR
LOCATION:Bækvej 9\, Tårup\, 5871 Frørup
DTSTART:20210814T160000Z
DTSTAMP:20260420T151916Z
ORGANIZER:MAILTO:Tårupportalen
GEO:55.237476;10.772874
X-APPLE-STRUCTURED-LOCATION;VALUE=URI;X-ADDRESS=Bækvej 9\, Tårup\, 5871 F
 rørup;X-APPLE-RADIUS=72;X-TITLE=Bækvej 9´s Stuekoncerter:55.237476;10.7
 72874
END:VEVENT
BEGIN:VEVENT
UID:69e627d4c2813
SUMMARY:Tim Lothar & Holger Daub
DESCRIPTION:Bækvej 9's Stuekoncerter præsenterer:Intim stuekoncert med Ti
 m Lothar &amp\; Holger Daub.&nbsp\;
LOCATION:Hagenborgvej 3\, 5871 Frørup
DTSTART:20211125T190000Z
DTEND:20211125T220000Z
DTSTAMP:20260420T151916Z
ORGANIZER:MAILTO:Tårupportalen
GEO:55.252547;10.784541
X-APPLE-STRUCTURED-LOCATION;VALUE=URI;X-ADDRESS=Hagenborgvej 3\, 5871 Frør
 up;X-APPLE-RADIUS=72;X-TITLE=Kildegaard Bed & Kitchen:55.252547;10.784541
END:VEVENT
BEGIN:VEVENT
UID:69e627d4c2828
SUMMARY:Udsat til november - Kasper Buch koncert
DESCRIPTION:Kasper Buch koncert
LOCATION:Bækvej 9\, Tårup\, 5871 Frørup
DTSTART:20220114T190000Z
DTSTAMP:20260420T151916Z
ORGANIZER:MAILTO:Tårupportalen
GEO:55.237476;10.772874
X-APPLE-STRUCTURED-LOCATION;VALUE=URI;X-ADDRESS=Bækvej 9\, Tårup\, 5871 F
 rørup;X-APPLE-RADIUS=72;X-TITLE=Bækvej 9´s Stuekoncerter:55.237476;10.7
 72874
END:VEVENT
BEGIN:VEVENT
UID:69e627d4c2836
SUMMARY:Tim Schou koncert
DESCRIPTION:Tim Schou koncert
LOCATION:20\, Tårup Byvej\, Frørup\, Nyborg Kommune\, Region Syddanmark\,
  5871\, Danmark
DTSTART:20220218T180000Z
DTSTAMP:20211016T153234Z
ORGANIZER:MAILTO:Tårupportalen
GEO:55.235215;10.77394
X-APPLE-STRUCTURED-LOCATION;VALUE=URI;X-ADDRESS=20\, Tårup Byvej\, Frørup
 \, Nyborg Kommune\, Region Syddanmark\, 5871\, Danmark;X-APPLE-RADIUS=72;X
 -TITLE=Tårup Byvej 20:55.235215;10.77394
END:VEVENT
BEGIN:VEVENT
UID:69e627d4c284d
SUMMARY:Intimkoncert med Henrik Johannessen
DESCRIPTION:Intimkoncert med Henrik Johannessen
LOCATION:Kajbjergvej 4\, Tårup\, 5871 Frørup
DTSTART:20220401T170000Z
DTSTAMP:20220302T172249Z
ORGANIZER:MAILTO:Tårupportalen
GEO:55.241363;10.781984
X-APPLE-STRUCTURED-LOCATION;VALUE=URI;X-ADDRESS=Kajbjergvej 4\, Tårup\, 58
 71 Frørup;X-APPLE-RADIUS=72;X-TITLE=Bækvej 9's Stuekoncerter - Spilleste
 d Kajbjergvej 4:55.241363;10.781984
END:VEVENT
BEGIN:VEVENT
UID:69e627d4c2863
SUMMARY:Tomas Høffding koncert
DESCRIPTION:Tomas Høffding koncert i Tårup
LOCATION:Kajbjergvej 7\, 5871 Frørup
DTSTART:20220630T180000Z
DTSTAMP:20220127T142837Z
ORGANIZER:MAILTO:Tårupportalen
GEO:55.239357;10.776715
X-APPLE-STRUCTURED-LOCATION;VALUE=URI;X-ADDRESS=Kajbjergvej 7\, 5871 Frøru
 p;X-APPLE-RADIUS=72;X-TITLE=Bækvej 9's stuekoncerter - spillested Kajbjer
 gvej 7:55.239357;10.776715
END:VEVENT
BEGIN:VEVENT
UID:69e627d4c2878
SUMMARY:Jacob Bellens akustisk koncert
DESCRIPTION:Intim akustisk koncert med formidable Jacob Bellens. Vi skaber 
 endnu engang en musikalsk oplevelse i skønne rammer et sted i Tårup
LOCATION:Bækvej 10\, Tårup\, 5871 Frørup
DTSTART:20221007T180000Z
DTEND:20221007T200000Z
DTSTAMP:20220726T154140Z
ORGANIZER:MAILTO:Tårupportalen
GEO:55.236643;10.768293
X-APPLE-STRUCTURED-LOCATION;VALUE=URI;X-ADDRESS=Bækvej 10\, Tårup\, 5871 
 Frørup;X-APPLE-RADIUS=72;X-TITLE=Bækvej 10:55.236643;10.768293
END:VEVENT
BEGIN:VEVENT
UID:69e627d4c2895
SUMMARY:Koncert med Esben Svane
DESCRIPTION:Koncert med Esben Svane i Tårup
LOCATION:Åvej 7\,Tårup\,5871 Frørup
DTSTART:20221215T180000Z
DTSTAMP:20221017T152051Z
ORGANIZER:MAILTO:Tårupportalen
GEO:55.229347;10.745621
X-APPLE-STRUCTURED-LOCATION;VALUE=URI;X-ADDRESS=Åvej 7\,Tårup\,5871 Frør
 up;X-APPLE-RADIUS=72;X-TITLE=Bækvej 9's stuekoncerter - Spillested Åvej 
 7:55.229347;10.745621
END:VEVENT
BEGIN:VEVENT
UID:69e627d4c28aa
SUMMARY:Michael Hamilton
DESCRIPTION:Koncert med&nbsp\;Michael Hamilton
 &nbsp\;
LOCATION:Bækvej 9\, Tårup\, 5871 Frørup
DTSTART:20230107T140000Z
DTSTAMP:20221017T153144Z
ORGANIZER:MAILTO:Tårupportalen
GEO:55.237476;10.772874
X-APPLE-STRUCTURED-LOCATION;VALUE=URI;X-ADDRESS=Bækvej 9\, Tårup\, 5871 F
 rørup;X-APPLE-RADIUS=72;X-TITLE=Bækvej 9´s Stuekoncerter:55.237476;10.7
 72874
END:VEVENT
BEGIN:VEVENT
UID:69e627d4c28c0
SUMMARY:Lasse Storm
DESCRIPTION:Koncert med Lasse Storm
LOCATION:Rygårdsvej 11\, Langå  5874 Hesselager
DTSTART:20230224T190000Z
DTSTAMP:20221021T094247Z
ORGANIZER:MAILTO:Tårupportalen
GEO:55.194622;10.722916
X-APPLE-STRUCTURED-LOCATION;VALUE=URI;X-ADDRESS=Rygårdsvej 11\, Langå  58
 74 Hesselager;X-APPLE-RADIUS=72;X-TITLE=Langå Forsamlingshus:55.194622;10
 .722916
END:VEVENT
BEGIN:VEVENT
UID:69e627d4c28da
SUMMARY:Tim Lothar\, Holger Daub & Jánus Mazura
DESCRIPTION:Koncert med Tim Lothar\, Holger Daub &amp\; Jánus Mazura
LOCATION:Hagenborgvej 3\, 5871 Frørup
DTSTART:20230505T180000Z
DTSTAMP:20221021T093905Z
ORGANIZER:MAILTO:Tårupportalen
GEO:55.252547;10.784541
X-APPLE-STRUCTURED-LOCATION;VALUE=URI;X-ADDRESS=Hagenborgvej 3\, 5871 Frør
 up;X-APPLE-RADIUS=72;X-TITLE=Kildegaard Bed & Kitchen:55.252547;10.784541
END:VEVENT
BEGIN:VEVENT
UID:69e627d4c28f0
SUMMARY:Tom Bjerg koncert
DESCRIPTION:Tom Bjerg Koncert i Tårup
LOCATION:Bækvej 9\, Tårup\, 5871 Frørup
DTSTART:20230526T170000Z
DTSTAMP:20230305T100431Z
ORGANIZER:MAILTO:Tårupportalen
GEO:55.237476;10.772874
X-APPLE-STRUCTURED-LOCATION;VALUE=URI;X-ADDRESS=Bækvej 9\, Tårup\, 5871 F
 rørup;X-APPLE-RADIUS=72;X-TITLE=Bækvej 9´s Stuekoncerter:55.237476;10.7
 72874
END:VEVENT
BEGIN:VEVENT
UID:69e627d4c2906
SUMMARY:Vi fejrer midsommer med dobbeltkoncert\, honning og jordbær
DESCRIPTION:Lørdag 24. juni arrangerer Kunstrum Fyn og Bækvej 9 stuekonce
 rter udendørs dobbeltkoncert med artistene Ise og Camille Grey. Vi fejrer
  også Honning og Jordbærdag med boder\, salg og smagsprøver.
LOCATION:Bækvej 10\, Tårup\, 5871 Frørup
DTSTART:20230624T130000Z
DTEND:20230624T180000Z
DTSTAMP:20230129T063456Z
ORGANIZER:MAILTO:Tårupportalen
GEO:55.236619;10.768769
X-APPLE-STRUCTURED-LOCATION;VALUE=URI;X-ADDRESS=Bækvej 10\, Tårup\, 5871 
 Frørup;X-APPLE-RADIUS=72;X-TITLE=Nordholt Gård:55.236619;10.768769
END:VEVENT
BEGIN:VEVENT
UID:69e627d4c2923
SUMMARY:Marc Facchini koncert
DESCRIPTION:Koncert: Marc Facchini - Fakiren fra Bakkebølle
LOCATION:Åvej 7\, Tårup\, 5871 Frørup
DTSTART:20231103T190000Z
DTSTAMP:20230509T185814Z
ORGANIZER:MAILTO:Tårupportalen
GEO:55.2294;10.745568
X-APPLE-STRUCTURED-LOCATION;VALUE=URI;X-ADDRESS=Åvej 7\, Tårup\, 5871 Fr
 ørup;X-APPLE-RADIUS=72;X-TITLE=Åvej  7:55.2294;10.745568
END:VEVENT
BEGIN:VEVENT
UID:69e627d4c2938
SUMMARY:Mika Vandborg koncert
DESCRIPTION:Mika Vandborg - koncert
LOCATION:Hagenborgvej 3\, 5871 Frørup
DTSTART:20240126T180000Z
DTSTAMP:20230729T062234Z
ORGANIZER:MAILTO:Tårupportalen
GEO:55.252547;10.784541
X-APPLE-STRUCTURED-LOCATION;VALUE=URI;X-ADDRESS=Hagenborgvej 3\, 5871 Frør
 up;X-APPLE-RADIUS=72;X-TITLE=Kildegaard Bed & Kitchen:55.252547;10.784541
END:VEVENT
END:VCALENDAR