BEGIN:VCALENDAR
VERSION:2.0
PRODID:Events Booking
BEGIN:VEVENT
UID:69e63ab537544
SUMMARY:Invitation til Vintersolhverv (opdateret)
DESCRIPTION:BOFÆLLESSKABET DUGNAD X KUNSTRUM FYN
 Inviterer tilVINTERSOLH
 VERV
LOCATION:Bækvej 8\, Tårup\, 5871 Frørup
DTSTART:20231222T150000Z
DTSTAMP:20231209T210055Z
ORGANIZER;CN=Tårupportalen:MAILTO:redaktionen@taarupportalen.dk
GEO:55.236766;10.771391
X-APPLE-STRUCTURED-LOCATION;VALUE=URI;X-ADDRESS=Bækvej 8\, Tårup\, 5871 F
 rørup;X-APPLE-RADIUS=72;X-TITLE=Dugnad:55.236766;10.771391
END:VEVENT
END:VCALENDAR