BEGIN:VCALENDAR
VERSION:2.0
PRODID:Events Booking
BEGIN:VEVENT
UID:69e63a3297b2c
SUMMARY:Genbrugsindsamling
DESCRIPTION:Genbrugsindsamling
 4kløverskolen i Frørup - 5. klasse indsa
 mler flasker
LOCATION:Skolevej 1\, 5871 Frørup
DTSTART:20200905T060000Z
DTSTAMP:20260420T163738Z
ORGANIZER;CN=Tårupportalen:MAILTO:redaktionen@taarupportalen.dk
GEO:55.236525;10.742159
X-APPLE-STRUCTURED-LOCATION;VALUE=URI;X-ADDRESS=Skolevej 1\, 5871 Frørup;X
 -APPLE-RADIUS=72;X-TITLE=4kløverskolen i Frørup:55.236525;10.742159
END:VEVENT
END:VCALENDAR