BEGIN:VCALENDAR
VERSION:2.0
PRODID:Events Booking
BEGIN:VEVENT
UID:69e63ab537c88
SUMMARY:Fredagsbar i Øksendrup Cideri
DESCRIPTION:Vi inviterer til hyggelig fredagsbar i cideriet i Øksendrup nu
  på fredag kl 15.00. Der er kølig cider\, øl og vand plus kaffe og kage
  i baren og levende musik kl 16.30. Alle er velkomne.
LOCATION:Øksendrupvej 13\, 5871 Frørup
DTSTART:20230728T130000Z
DTSTAMP:20230723T063852Z
ORGANIZER;CN=Tårupportalen:MAILTO:redaktionen@taarupportalen.dk
GEO:55.218053;10.737088
X-APPLE-STRUCTURED-LOCATION;VALUE=URI;X-ADDRESS=Øksendrupvej 13\, 5871 Fr
 ørup;X-APPLE-RADIUS=72;X-TITLE=Øksendrup Cider:55.218053;10.737088
END:VEVENT
END:VCALENDAR