BEGIN:VCALENDAR
VERSION:2.0
PRODID:Events Booking
BEGIN:VEVENT
UID:69e64d1cb5ce9
SUMMARY:Glasbillede workshops og sommeråbent
DESCRIPTION:Glasbillede workshops og sommeråbent i Galleri Kiel Ratzow
 S
 tine har glasbillede workshops torsdage i juli kl. 9.30-12 og igen kl. 14-
 16.30 og en enkelt gang tirsdag d. 18. juli kl. 14-16.30.
 Pris 300\,- + 
 materialer.
 Mere info og tilmelding på: 25317679.
 Og så er der åben
 t i galleriet tirsdage og onsdags kl. 14-16 t.o.m. d. 15. aug. + når flag
 et er ude samt efter aftale.
LOCATION:Bækvej 3\, Tårup\, 5871 Frørup
DTSTART:20230718T120000Z
DTEND:20230718T143000Z
DTSTAMP:20230714T055143Z
ORGANIZER;CN=Tårupportalen:MAILTO:redaktionen@taarupportalen.dk
GEO:55.237656;10.77464
X-APPLE-STRUCTURED-LOCATION;VALUE=URI;X-ADDRESS=Bækvej 3\, Tårup\, 5871 F
 rørup;X-APPLE-RADIUS=72;X-TITLE=Galleri Kiel Ratzow:55.237656;10.77464
END:VEVENT
END:VCALENDAR