BEGIN:VCALENDAR
VERSION:2.0
PRODID:Events Booking
BEGIN:VEVENT
UID:69e63a5d9dd29
SUMMARY:Informationsmøde om solcelleanlæg i Frørup\, Tårup og opland
DESCRIPTION:Solcelleanlæg i Frørup\, Tårup og opland –
 Infomøde i T
 årup forsamlingshus den 27. juni kl. 17.00 – 19.00
LOCATION:Tårup Byvej 26\, Tårup\, 5871 Frørup
DTSTART:20230627T150000Z
DTEND:20230627T170000Z
DTSTAMP:20230602T073431Z
ORGANIZER;CN=Tårupportalen:MAILTO:redaktionen@taarupportalen.dk
GEO:55.234602;10.773174
X-APPLE-STRUCTURED-LOCATION;VALUE=URI;X-ADDRESS=Tårup Byvej 26\, Tårup\, 
 5871 Frørup;X-APPLE-RADIUS=72;X-TITLE=Tårup Forsamlingshus:55.234602;10.
 773174
END:VEVENT
END:VCALENDAR