BEGIN:VCALENDAR
VERSION:2.0
PRODID:Events Booking
BEGIN:VEVENT
UID:69e64c6124f1e
SUMMARY:Glasworkshop
DESCRIPTION:Galleri Kiel Ratzow åbner op for sæsonen i påsken. 
 Tirsda
 g og torsdag er der mulighed for at deltage i en glaskunstworkshop kl. 10-
 12.30 og om eftermiddagen er galleriet åbent kl. 14-18. 
 I galleriet ud
 stiller Stine sine skulpturer og smykker i glas\, bronze og sølv. 
 Glas
 kunstworkshops er både for børn (fra 8 år) og voksne.
 Med små glasst
 ykker i alverdens farver og små glasplader lærer du at fremstille det fi
 neste glasbillede til at have stående eller hængende.
 Pris: 300\,-/del
 tagerMaterialer afregnes på dagen (normalvist 75-200\,-kr/deltager)Der se
 rveres saft\, vand\, kaffe og the.
 Man er endeligt tilmeldt ved forudbet
 aling af deltagerbetaling med Mobile Pay eller ved bankoverførsel senest 
 dagen før workshoppen.
 Her oplyses:Antal deltagereEvt antal hjælpereTi
 lmelding og bestilling hos Stine på: 25317679Adresse: Bækvej 3\, Tårup\
 , 5871
LOCATION:Bækvej 3\, Tårup\, 5871 Frørup
DTSTART:20230404T080000Z
DTEND:20230404T103000Z
DTSTAMP:20230330T190134Z
ORGANIZER;CN=Tårupportalen:MAILTO:redaktionen@taarupportalen.dk
GEO:55.237656;10.77464
X-APPLE-STRUCTURED-LOCATION;VALUE=URI;X-ADDRESS=Bækvej 3\, Tårup\, 5871 F
 rørup;X-APPLE-RADIUS=72;X-TITLE=Galleri Kiel Ratzow:55.237656;10.77464
END:VEVENT
END:VCALENDAR