BEGIN:VCALENDAR
VERSION:2.0
PRODID:Events Booking
BEGIN:VEVENT
UID:69e63b4a84ea8
SUMMARY:Fernisering udstillingen \"hehe\"
DESCRIPTION:Udstillingen \"hehe\"
LOCATION:Nyborg Vandtårn\, Møllebakken 10\, Dronningens Bastion\, 5800 Ny
 borg
DTSTART:20221014T150000Z
DTEND:20221014T170000Z
DTSTAMP:20221012T054942Z
ORGANIZER;CN=Tårupportalen:MAILTO:redaktionen@taarupportalen.dk
GEO:55.314225;10.78458
X-APPLE-STRUCTURED-LOCATION;VALUE=URI;X-ADDRESS=Nyborg Vandtårn\, Mølleba
 kken 10\, Dronningens Bastion\, 5800 Nyborg;X-APPLE-RADIUS=72;X-TITLE=Nybo
 rg Vandtårn:55.314225;10.78458
END:VEVENT
END:VCALENDAR