BEGIN:VCALENDAR
VERSION:2.0
PRODID:Events Booking
BEGIN:VEVENT
UID:69e63b4a866f5
SUMMARY:Fra tegning til akvarel - opstart
DESCRIPTION:Fra tegning til akvarel - opstart
 Anne-Maries Tegneskole
LOCATION:21\, Tårup Byvej\, Frørup
DTSTART:20220903T070000Z
DTEND:20220903T100000Z
DTSTAMP:20220820T060939Z
ORGANIZER;CN=Tårupportalen:MAILTO:redaktionen@taarupportalen.dk
GEO:55.2324;10.771495
X-APPLE-STRUCTURED-LOCATION;VALUE=URI;X-ADDRESS=21\, Tårup Byvej\, Frørup
 ;X-APPLE-RADIUS=72;X-TITLE=Anne Maries Tegneskole:55.2324;10.771495
END:VEVENT
END:VCALENDAR