BEGIN:VCALENDAR
VERSION:2.0
PRODID:Events Booking
BEGIN:VEVENT
UID:69e63afd87f29
SUMMARY:Kunstskole for børn og unge - opstart
DESCRIPTION:Kunstskole for børn og unge hos Kiel Ratzow
LOCATION:Bækvej 3\, Tårup\, 5871 Frørup
DTSTART:20220907T133000Z
DTEND:20220907T160000Z
DTSTAMP:20220819T135225Z
ORGANIZER;CN=Tårupportalen:MAILTO:redaktionen@taarupportalen.dk
GEO:55.237656;10.77464
X-APPLE-STRUCTURED-LOCATION;VALUE=URI;X-ADDRESS=Bækvej 3\, Tårup\, 5871 F
 rørup;X-APPLE-RADIUS=72;X-TITLE=Galleri Kiel Ratzow:55.237656;10.77464
END:VEVENT
END:VCALENDAR