BEGIN:VCALENDAR
VERSION:2.0
PRODID:Events Booking
BEGIN:VEVENT
UID:69e63b1d6769a
SUMMARY:Åbning af Galleri Kiel Ratzow
DESCRIPTION:Åbning af Galleri Kiel ratzow i Tårup
LOCATION:Bækvej 3\, Tårup\, 5871 Frørup
DTSTART:20220710T130000Z
DTEND:20220710T150000Z
DTSTAMP:20220708T071620Z
ORGANIZER;CN=Tårupportalen:MAILTO:redaktionen@taarupportalen.dk
GEO:55.237656;10.77464
X-APPLE-STRUCTURED-LOCATION;VALUE=URI;X-ADDRESS=Bækvej 3\, Tårup\, 5871 F
 rørup;X-APPLE-RADIUS=72;X-TITLE=Galleri Kiel Ratzow:55.237656;10.77464
END:VEVENT
END:VCALENDAR