BEGIN:VCALENDAR
VERSION:2.0
PRODID:Events Booking
BEGIN:VEVENT
UID:69e6280654214
SUMMARY:Stegt flæsk\, Generalforsamling og Foredrag
DESCRIPTION:Stegt flæsk og persillesovs
 Generalforsamling
 Foredrag med
  tidligere Kaptajn ved A.P. Møller Mærsk Jens Christian Christiansen
LOCATION:Tårup Byvej 26\, Tårup\, 5871 Frørup
DTSTART:20220224T173000Z
DTEND:20220224T203000Z
DTSTAMP:20260420T152006Z
ORGANIZER;CN=Tårupportalen:MAILTO:redaktionen@taarupportalen.dk
GEO:55.234602;10.773174
X-APPLE-STRUCTURED-LOCATION;VALUE=URI;X-ADDRESS=Tårup Byvej 26\, Tårup\, 
 5871 Frørup;X-APPLE-RADIUS=72;X-TITLE=Tårup Forsamlingshus:55.234602;10.
 773174
END:VEVENT
END:VCALENDAR