BEGIN:VCALENDAR
VERSION:2.0
PRODID:Events Booking
BEGIN:VEVENT
UID:69e627d4f340a
SUMMARY:Om filosoffen Pythagoras
DESCRIPTION:Erhvervsmanden Ulrik Bülow fortæller om filosoffen Pythagoras
 &nbsp\;Torsdag d. 27. august kl. 19.30&nbsp\; på Vejenlyst
LOCATION:Bækvej 10\, Tårup\, 5871 Frørup
DTSTART:20200827T173000Z
DTSTAMP:20260420T151916Z
ORGANIZER;CN=Tårupportalen:MAILTO:redaktionen@taarupportalen.dk
GEO:55.236619;10.768769
X-APPLE-STRUCTURED-LOCATION;VALUE=URI;X-ADDRESS=Bækvej 10\, Tårup\, 5871 
 Frørup;X-APPLE-RADIUS=72;X-TITLE=Nordholt Gård:55.236619;10.768769
END:VEVENT
END:VCALENDAR