BEGIN:VCALENDAR
VERSION:2.0
PRODID:Events Booking
BEGIN:VEVENT
UID:69e63b6014035
SUMMARY:Sankt Hans aften på Frørupgaard 
DESCRIPTION:Sankt Hans aften på Frørupgaard 
DTSTART:20210623T173000Z
DTSTAMP:20260420T164240Z
ORGANIZER;CN=Tårupportalen:MAILTO:redaktionen@taarupportalen.dk
END:VEVENT
END:VCALENDAR