BEGIN:VCALENDAR
VERSION:2.0
PRODID:Events Booking
BEGIN:VEVENT
UID:69e63a953c89a
SUMMARY:Festlig dag i Tårup
DESCRIPTION:Festlig dag&nbsp\;med Åbent Hus og&nbsp\;indvielse i Tårup&nb
 sp\;den 20. juni 2021 på det grønne område&nbsp\;ved og omkring Egen
LOCATION:Brydevej 1\, Tårup\, 5871 Frørup
DTSTART:20210620T080000Z
DTEND:20210620T160000Z
DTSTAMP:20260420T163917Z
ORGANIZER;CN=Tårupportalen:MAILTO:redaktionen@taarupportalen.dk
GEO:55.234537;10.772353
X-APPLE-STRUCTURED-LOCATION;VALUE=URI;X-ADDRESS=Brydevej 1\, Tårup\, 5871 
 Frørup;X-APPLE-RADIUS=72;X-TITLE=Under Egen i Tårup:55.234537;10.772353
END:VEVENT
END:VCALENDAR