BEGIN:VCALENDAR
VERSION:2.0
PRODID:Events Booking
BEGIN:VEVENT
UID:69e627d528768
SUMMARY:Gudstjeneste
DESCRIPTION:Gudstjeneste i Tårup Kirke v. Karin Nebel
LOCATION:Tårup Byvej 7A\, Tårup\, 5871 Frørup
DTSTART:20200809T093000Z
DTSTAMP:20260420T151917Z
ORGANIZER;CN=Tårupportalen:MAILTO:redaktionen@taarupportalen.dk
GEO:55.234433;10.773834
X-APPLE-STRUCTURED-LOCATION;VALUE=URI;X-ADDRESS=Tårup Byvej 7A\, Tårup\, 
 5871 Frørup;X-APPLE-RADIUS=72;X-TITLE=Tårup Kirke:55.234433;10.773834
END:VEVENT
END:VCALENDAR