BEGIN:VCALENDAR
VERSION:2.0
PRODID:Events Booking
BEGIN:VEVENT
UID:69e62831bd00c
SUMMARY:Ud i det blå med Seniorklubben
DESCRIPTION:Tag på udflugt med Tårup-Frørup Seniorklub - Ud i det blå
DTSTART:20210624T103000Z
DTEND:20210624T153000Z
DTSTAMP:20260420T152049Z
ORGANIZER;CN=Tårupportalen:MAILTO:redaktionen@taarupportalen.dk
END:VEVENT
END:VCALENDAR