BEGIN:VCALENDAR
VERSION:2.0
PRODID:Events Booking
BEGIN:VEVENT
UID:69e62831bd025
SUMMARY:Gudstjenste - Konfirmation
DESCRIPTION:Gudstjeneste med Konfirmation i Frørup Kirke
 Årets konfirma
 nder1) Signe Juhl Christensen2) Iben Kristine Huus3) Jessica Vingaard Ande
 rsen4) Cecilie Lise Kammersgaard Gregersen5) Tobias Ric Rye Ferslev6) Chri
 stian Vesterlund Nielsen7) Jonas Stenholdt Pryds8) Tobias Moeslund Madsen
LOCATION:Frørup Kirke\, Præstevænget 5A\, 5871 Frørup
DTSTART:20200823T080000Z
DTSTAMP:20260420T152049Z
ORGANIZER;CN=Tårupportalen:MAILTO:redaktionen@taarupportalen.dk
GEO:55.24261;10.714452
X-APPLE-STRUCTURED-LOCATION;VALUE=URI;X-ADDRESS=Frørup Kirke\, Præstevæn
 get 5A\, 5871 Frørup;X-APPLE-RADIUS=72;X-TITLE=Frørup Kirke:55.24261;10.
 714452
END:VEVENT
END:VCALENDAR