BEGIN:VCALENDAR
VERSION:2.0
PRODID:Events Booking
BEGIN:VEVENT
UID:69e63ab5375ca
SUMMARY:Grill \"Under egen\"
DESCRIPTION:Grillaftner ”Under Egen”
LOCATION:Brydevej 1\, Tårup\, 5871 Frørup
DTSTART:20210625T160000Z
DTSTAMP:20260420T163949Z
ORGANIZER;CN=Tårupportalen:MAILTO:redaktionen@taarupportalen.dk
GEO:55.234537;10.772353
X-APPLE-STRUCTURED-LOCATION;VALUE=URI;X-ADDRESS=Brydevej 1\, Tårup\, 5871 
 Frørup;X-APPLE-RADIUS=72;X-TITLE=Under Egen i Tårup:55.234537;10.772353
END:VEVENT
END:VCALENDAR