BEGIN:VCALENDAR
VERSION:2.0
PRODID:Events Booking
BEGIN:VEVENT
UID:69e627d511205
SUMMARY:FAZE'N'MIR
DESCRIPTION:Stuekoncert med&nbsp\;FAZE’N’MIR
LOCATION:Bækvej 9\, Tårup\, 5871 Frørup
DTSTART:20210814T160000Z
DTSTAMP:20260420T151917Z
ORGANIZER;CN=Tårupportalen:MAILTO:redaktionen@taarupportalen.dk
GEO:55.237476;10.772874
X-APPLE-STRUCTURED-LOCATION;VALUE=URI;X-ADDRESS=Bækvej 9\, Tårup\, 5871 F
 rørup;X-APPLE-RADIUS=72;X-TITLE=Bækvej 9´s Stuekoncerter:55.237476;10.7
 72874
END:VEVENT
END:VCALENDAR