BEGIN:VCALENDAR
VERSION:2.0
PRODID:Events Booking
BEGIN:VEVENT
UID:69e63a955dcde
SUMMARY:Gudstjeneste - Bededag
DESCRIPTION:Gudstjeneste i Frørup Kirke
DTSTART:20210430T080000Z
DTSTAMP:20260420T163917Z
ORGANIZER;CN=Tårupportalen:MAILTO:redaktionen@taarupportalen.dk
END:VEVENT
END:VCALENDAR