BEGIN:VCALENDAR
VERSION:2.0
PRODID:Events Booking
BEGIN:VEVENT
UID:69e63aafc6d19
SUMMARY:Gudstjeneste - 2. Påskedag
DESCRIPTION:Gudstjeneste i Frørup Kirke
LOCATION:Frørup Kirke\, Præstevænget 5A\, 5871 Frørup
DTSTART:20210405T080000Z
DTSTAMP:20260420T163943Z
ORGANIZER;CN=Tårupportalen:MAILTO:redaktionen@taarupportalen.dk
GEO:55.24261;10.714452
X-APPLE-STRUCTURED-LOCATION;VALUE=URI;X-ADDRESS=Frørup Kirke\, Præstevæn
 get 5A\, 5871 Frørup;X-APPLE-RADIUS=72;X-TITLE=Frørup Kirke:55.24261;10.
 714452
END:VEVENT
END:VCALENDAR