BEGIN:VCALENDAR
VERSION:2.0
PRODID:Events Booking
BEGIN:VEVENT
UID:69e63afd87db5
SUMMARY:Onsdagsgåtur langs Ladegårdsåen
DESCRIPTION:Onsdags gåturene i Tårup
LOCATION:Brydevej 1\, Tårup\, 5871 Frørup
DTSTART:20210609T070000Z
DTSTAMP:20260420T164101Z
ORGANIZER;CN=Tårupportalen:MAILTO:redaktionen@taarupportalen.dk
GEO:55.234537;10.772353
X-APPLE-STRUCTURED-LOCATION;VALUE=URI;X-ADDRESS=Brydevej 1\, Tårup\, 5871 
 Frørup;X-APPLE-RADIUS=72;X-TITLE=Under Egen i Tårup:55.234537;10.772353
END:VEVENT
END:VCALENDAR